BEGIN:VCALENDAR
METHOD:PUBLISH
PRODID:Data::ICal 0.13
VERSION:2.0
BEGIN:VEVENT
DESCRIPTION:R&amp;B Concert Experience: New Edition, Toni Braxton, and Boyz II Men



Get ready, Indy — the legends are coming!  



Three of the biggest names in R&amp;B — New Edition, Toni Braxton, and Boyz II Men — are joining forces for The New Edition Way Tour! 



This massive 32-city national tour kicks off at the start of 2026 and makes a stop right here at Gainbridge Fieldhouse on February 19. 



Expect a night packed with timeless hits, smooth harmonies, and the kind of nostalgia that only true R&amp;B royalty can deliver.
DTSTAMP:20260424T155532Z
DTSTART;TZID=America/New_York:20260219T200000
DTEND;TZID=America/New_York:20260219T223000
LOCATION:Indianapolis\, IN
SUMMARY:Get Tickets: R&#038;B Concert Experience: New Edition, Toni Braxton, and Boyz II Men
UID:4132707-1771531200-1771540200
END:VEVENT
END:VCALENDAR
