BEGIN:VCALENDAR
METHOD:PUBLISH
PRODID:Data::ICal 0.13
VERSION:2.0
BEGIN:VEVENT
DESCRIPTION:R&amp;B After Hours: Wine &amp; Dine Wednesday Valentine’s Edition



Get ready for a smooth, soulful night of music, wine, and great vibes at R&amp;B After Hours: Wine &amp; Dine Wednesday Valentine’s Edition hosted by WTLC 106.7 in partnership with Prime 47 Indy’s Steakhouse. 



Join us for an intimate after work experience where R&amp;B meets fine dining in the heart of downtown Indianapolis. Sip on curated wine selections, enjoy delicious small bites, and vibe out to the perfect soundtrack for your midweek wind down. 



🎤 Hosted by Karen Vaughn 







Whether you’re coming with your special someone, your friends, or just treating yourself, this Valentine’s Edition of R&amp;B After Hours is the perfect way to relax, connect, and enjoy the sounds you love. 



Space is limited so arrive early and get ready to Wine, Dine, and Vibe.
DTSTAMP:20260425T130545Z
DTSTART;TZID=America/New_York:20260211T173000
DTEND;TZID=America/New_York:20260211T193000
LOCATION:
SUMMARY:R&amp;B After Hours: Wine &amp; Dine Wednesday Valentine’s Edition
UID:4211784-1770831000-1770838200
END:VEVENT
END:VCALENDAR
