BEGIN:VCALENDAR
METHOD:PUBLISH
PRODID:Data::ICal 0.13
VERSION:2.0
BEGIN:VEVENT
DESCRIPTION:CLICK HERE &amp; USE THE PRESALE CODE PBC &amp; GET YOUR TICKETS
DTSTAMP:20260424T133413Z
DTSTART;TZID=America/New_York:20220407T000000
DTEND;TZID=America/New_York:20220407T000000
LOCATION:
SUMMARY:Maxwell &#8220;The Night&#8221; Tour With Anthony Hamilton &amp; Joe
UID:3094840-1649289600-1649289600
END:VEVENT
END:VCALENDAR
