BEGIN:VCALENDAR
METHOD:PUBLISH
PRODID:Data::ICal 0.13
VERSION:2.0
BEGIN:VEVENT
DESCRIPTION:
DTSTAMP:20260424T170755Z
DTSTART;TZID=America/New_York:20250421T200000
DTEND;TZID=America/New_York:20250421T200000
LOCATION:Indianapolis\, Indiana
SUMMARY:MARY J BLIGE AT GAINBRIDGE 2025
UID:4019572-1745265600-1745265600
END:VEVENT
END:VCALENDAR
