BEGIN:VCALENDAR
METHOD:PUBLISH
PRODID:Data::ICal 0.13
VERSION:2.0
BEGIN:VEVENT
DESCRIPTION:JOIN WTLC BACK IN FULL ACTION FOR IBE’S SUMMER CELEBRATION FRIDAY, JULY 10TH THRU THE 20TH!  WE’LL BE BACK OUTSIDE AND BACK DOWNTOWN, SO BRING THE WHOLE FAMILY FOR ALL THE FREE, FUN AND BRAND-NEW ACTIVITIES–ALL LIVE AND POWERED BY ESKENAZI HEALTH.\nThe Indiana Black Expo (IBE) is an effective voice &amp; vehicle for the social and economic advancement of African American youth &amp; families. As a pillar of the Indiana community since 1970, IBE has encouraged and empowered individuals through education, events, and hands-on initiatives. The organization has continued to evolve its programming to find new ways to proactively address the most relevant issues and contribute to positive change.\n\nIBE continues to strive for excellence by providing unique events and programs that reflect the changing landscape of Indiana and the world. With a statewide infrastructure now including 12-chapter affiliates, IBE continues to be a major economic and social contributor to our youth and the Indiana community.\n For more information about Indiana Black Expo and to check out the full schedule visit www.summercelebration.net/events \nWTLC is supported by Sandra Eskenazi Mental health Center, where all clients are treated with dignity, confidentiality and respect. If you or a loved one needs help, get the help you need and remember you are not alone. For more information call 317-880-8491 or visit http://www.eskenazihealth.edu.
DTSTAMP:20260425T104408Z
DTSTART;TZID=America/New_York:20250710T000000
DTEND;TZID=America/New_York:20250720T000000
LOCATION:100 S Capitol Ave 100 S Capitol Ave 100 S Capitol Ave
SUMMARY:Indiana Black Expo’s Summer Celebration 2025
UID:4067890-1752105600-1752969600
END:VEVENT
END:VCALENDAR
