BEGIN:VCALENDAR
METHOD:PUBLISH
PRODID:Data::ICal 0.13
VERSION:2.0
BEGIN:VEVENT
DESCRIPTION:Herb Alpert &amp; The Tijuana Brass Live in Indianapolis



Legendary trumpeter Herb Alpert brings his iconic sound to Indianapolis with Herb Alpert &amp; the Tijuana Brass for a special night at Clowes Memorial Hall. 



With a career spanning decades, Herb Alpert is known for his signature blend of jazz, pop, and Latin-inspired rhythms that have defined generations of music. From timeless classics to fan-favorite hits, this live performance delivers a unique and unforgettable concert experience filled with smooth sounds and vibrant energy. 



Whether you’re a longtime fan or discovering his music for the first time, this is a rare opportunity to see a true music legend live on stage. 



Tickets are available through Ticketmaster. 



Get your tickets here:
DTSTAMP:20260424T114148Z
DTSTART;TZID=America/New_York:20260916T193000
DTEND;TZID=America/New_York:20260916T193000
LOCATION:Indianapolis\, IN
SUMMARY:Herb Alpert &amp; The Tijuana Brass Live in Indianapolis
UID:4224985-1789587000-1789587000
END:VEVENT
END:VCALENDAR
